BEGIN:VCALENDAR
VERSION:2.0
PRODID:-//sawatou - ECPv6.15.18//NONSGML v1.0//EN
CALSCALE:GREGORIAN
METHOD:PUBLISH
X-WR-CALNAME:sawatou
X-ORIGINAL-URL:https://sawatou.com
X-WR-CALDESC:Veranstaltungen für sawatou
REFRESH-INTERVAL;VALUE=DURATION:PT1H
X-Robots-Tag:noindex
X-PUBLISHED-TTL:PT1H
BEGIN:VTIMEZONE
TZID:Europe/Vienna
BEGIN:DAYLIGHT
TZOFFSETFROM:+0100
TZOFFSETTO:+0200
TZNAME:CEST
DTSTART:20240331T010000
END:DAYLIGHT
BEGIN:STANDARD
TZOFFSETFROM:+0200
TZOFFSETTO:+0100
TZNAME:CET
DTSTART:20241027T010000
END:STANDARD
BEGIN:DAYLIGHT
TZOFFSETFROM:+0100
TZOFFSETTO:+0200
TZNAME:CEST
DTSTART:20250330T010000
END:DAYLIGHT
BEGIN:STANDARD
TZOFFSETFROM:+0200
TZOFFSETTO:+0100
TZNAME:CET
DTSTART:20251026T010000
END:STANDARD
BEGIN:DAYLIGHT
TZOFFSETFROM:+0100
TZOFFSETTO:+0200
TZNAME:CEST
DTSTART:20260329T010000
END:DAYLIGHT
BEGIN:STANDARD
TZOFFSETFROM:+0200
TZOFFSETTO:+0100
TZNAME:CET
DTSTART:20261025T010000
END:STANDARD
END:VTIMEZONE
BEGIN:VEVENT
DTSTART;TZID=Europe/Vienna:20250411T150000
DTEND;TZID=Europe/Vienna:20250430T170000
DTSTAMP:20260423T142223
CREATED:20250324T112558Z
LAST-MODIFIED:20250325T104903Z
UID:2153-1744383600-1746032400@sawatou.com
SUMMARY:Farben der Emotionen
DESCRIPTION:  \nFarben der Emotionen \nGruppenausstellung der Sektion Textilkunst\, der Berufsvereinigung der bildenden Künstler Österreichs\, Wien/ NÖ/ Bgld \nKunstsalon\, Schloss Schönbrunn \, Ovalstiege 40\, 1130 Wien \nVernissage: Freitag\, 11.04.2025 um 15.00 Uhr   \nDas Farbkonzept in der textilen Kunst kann sehr vielfältig sein. Künstler nutzen oft eine harmonische Farbpalette\, um eine bestimmte Atmosphäre zu schaffen\, oder setzen gezielt Kontraste ein\, um Aufmerksamkeit zu erregen. Die Wahl der Farben kann auch kulturelle oder persönliche Bedeutungen tragen\, was den Ausdruck der Kunstwerke zusätzlich bereichert. Es ist ein spannendes Element\, das die visuelle Wirkung und die emotionale Resonanz der Werke maßgeblich beeinflusst. \n11.04. -30. 04. 2025 \nÖffnungszeiten:12.04/16.04/23.04/30.04 jeweils von 11-15 Uhr \n@design Flyer Ali Kianmehr
URL:https://sawatou.com/event/farben-der-emotionen/
LOCATION:Schloss Schönbrunn\, Ovalstiege 40\, Wien\, 1130\, Österreich
CATEGORIES:Ausstellungen
ATTACH;FMTTYPE=image/jpeg:https://sawatou.com/wp-content/uploads/2025/03/2025-Einladung-Farben-der-Emotionen-Front-Web.jpg
END:VEVENT
BEGIN:VEVENT
DTSTART;TZID=Europe/Vienna:20250427T100000
DTEND;TZID=Europe/Vienna:20250504T140000
DTSTAMP:20260423T142223
CREATED:20240703T190449Z
LAST-MODIFIED:20250102T195612Z
UID:2000-1745748000-1746367200@sawatou.com
SUMMARY:Skulpturaler Schmuck in Kroatien
DESCRIPTION:  \nSkulpturalen Schmuck filzen \nKreativurlaub am Rande des Ucka Naturparks oberhalb von Opatija.  \n Der Campus liegt in der Kvarner Bucht vollkommen abgelegen in absoluter Ruhelage  in 410 Höhenmetern.  \nSchmuck kann man nie genug haben! Besonders nicht\, wenn man diesen nach seinen Vorstellungen gestalten kann. \nEr kann die Persönlichkeit hervorheben und unterstützen\, Identität erzeugen\, gesellschaftliche Zugehörigkeit signalisieren\, Bewunderung und Anerkennung hervorrufen. \nIn diesem Workshop kannst Du aus feiner Merino Wolle\, Effektgarnen\, Stoffen und Perlen entstehen Einzelstücke die\, die  Persönlichkeit der Trägerin/ des Trägers schmeicheln werden. \nDu hast noch nie gefilzt und möchtest es gerne ausprobieren? Oder du hast das Filzen zwar mal ausprobiert\, aber du brauchst noch Anleitung? Dann ist dieser Kurs genau das Richtige für dich!\nDu erlernst nicht nur die Grundlagen des Filzens sondern auch verschiedene Techniken\, die deine Filzbegegnung zu einem Erlebnis machen werden! \nDie Kursgebühr beinhaltet auch Übernachtungen. Alle Infos und Anmeldung hier: https://www.riviera.academy/
URL:https://sawatou.com/event/skulpturaler-schmuck/
LOCATION:Mošćenička Draga im Campus II.\, Kroatien\, Drobrec Antici 90\, Istar Gea d.o.o Lovran\, Kroatien (Lokaler Name: Hrvatska)
CATEGORIES:Workshops Sawatou
ATTACH;FMTTYPE=image/jpeg:https://sawatou.com/wp-content/uploads/2020/12/Kette-manfred-klein.jpg
ORGANIZER;CN="Riviera Academy":MAILTO:emese@riviera.academy
END:VEVENT
END:VCALENDAR