BEGIN:VCALENDAR
VERSION:2.0
PRODID:-//sawatou - ECPv6.15.18//NONSGML v1.0//EN
CALSCALE:GREGORIAN
METHOD:PUBLISH
X-WR-CALNAME:sawatou
X-ORIGINAL-URL:https://sawatou.com
X-WR-CALDESC:Veranstaltungen für sawatou
REFRESH-INTERVAL;VALUE=DURATION:PT1H
X-Robots-Tag:noindex
X-PUBLISHED-TTL:PT1H
BEGIN:VTIMEZONE
TZID:Europe/Vienna
BEGIN:DAYLIGHT
TZOFFSETFROM:+0100
TZOFFSETTO:+0200
TZNAME:CEST
DTSTART:20250330T010000
END:DAYLIGHT
BEGIN:STANDARD
TZOFFSETFROM:+0200
TZOFFSETTO:+0100
TZNAME:CET
DTSTART:20251026T010000
END:STANDARD
BEGIN:DAYLIGHT
TZOFFSETFROM:+0100
TZOFFSETTO:+0200
TZNAME:CEST
DTSTART:20260329T010000
END:DAYLIGHT
BEGIN:STANDARD
TZOFFSETFROM:+0200
TZOFFSETTO:+0100
TZNAME:CET
DTSTART:20261025T010000
END:STANDARD
BEGIN:DAYLIGHT
TZOFFSETFROM:+0100
TZOFFSETTO:+0200
TZNAME:CEST
DTSTART:20270328T010000
END:DAYLIGHT
BEGIN:STANDARD
TZOFFSETFROM:+0200
TZOFFSETTO:+0100
TZNAME:CET
DTSTART:20271031T010000
END:STANDARD
END:VTIMEZONE
BEGIN:VTIMEZONE
TZID:Europe/Berlin
BEGIN:DAYLIGHT
TZOFFSETFROM:+0100
TZOFFSETTO:+0200
TZNAME:CEST
DTSTART:20250330T010000
END:DAYLIGHT
BEGIN:STANDARD
TZOFFSETFROM:+0200
TZOFFSETTO:+0100
TZNAME:CET
DTSTART:20251026T010000
END:STANDARD
BEGIN:DAYLIGHT
TZOFFSETFROM:+0100
TZOFFSETTO:+0200
TZNAME:CEST
DTSTART:20260329T010000
END:DAYLIGHT
BEGIN:STANDARD
TZOFFSETFROM:+0200
TZOFFSETTO:+0100
TZNAME:CET
DTSTART:20261025T010000
END:STANDARD
BEGIN:DAYLIGHT
TZOFFSETFROM:+0100
TZOFFSETTO:+0200
TZNAME:CEST
DTSTART:20270328T010000
END:DAYLIGHT
BEGIN:STANDARD
TZOFFSETFROM:+0200
TZOFFSETTO:+0100
TZNAME:CET
DTSTART:20271031T010000
END:STANDARD
END:VTIMEZONE
BEGIN:VEVENT
DTSTART;TZID=Europe/Vienna:20260414T000000
DTEND;TZID=Europe/Vienna:20260426T000000
DTSTAMP:20260421T102739
CREATED:20260327T094717Z
LAST-MODIFIED:20260328T165827Z
UID:2230-1776124800-1777161600@sawatou.com
SUMMARY:Matcha-Chai-Latte und Wiener Melange
DESCRIPTION:Matcha-Chai-Latte und Wiener Melange – eine Ausstellung in der B-gallery in Tokio. \n2 Chome-31-6 Nishiikebukuro\, Toshima City\, Tokyo 171-0021\, Japan \n14.04.2026- 25.04.2026 \nIch freue mich sehr\, gemeinsam mit einer Gruppe erlesener Künstler*innen in Tokio auszustellen. \nDiese Ausstellung beginnt nicht mit einem Ort\, sondern mit einer Geste: \ndem Mischen. Matcha\, Chai\, Milch\, Kaffee – Zutaten mit je eigener \nGeschichte\, eigenem Rhythmus\, eigener Temperatur. Erst im Zusammenkommen \nentfalten sie einen Geschmack\, der sich nicht mehr eindeutig zuordnen \nlässt. So versteht sich auch diese Gemeinschaftsausstellung von fünf \nKunstschaffenden aus Japan und fünf aus Wien: als ein offener Prozess \ndes Vermengens\, Übersetzens und gemeinsamen Atmens. \n  Die teilnehmenden Kunstschaffenden bewegen sich zwischen Kulturen\, \nSprachen und Biografien. Mit Prof. Michael Schneider (Tokio)\, Prof. \nTonia Kos\, Sawatou Mouratidou\, Silvia Guenova und Prof. Dr. Rolf Laven \n(Wien) sind arrivierte Positionen vertreten\, deren \nMigrationshintergründe nicht als Randnotiz\, sondern als produktive \nGrundlage wirken . Migration erscheint \nhier nicht als Verlust\, sondern als Erweiterung des Blicks – als \nFähigkeit\, mehrere Heimaten gleichzeitig zu denken und künstlerisch \nfruchtbar zu machen. \n  „Matcha-Chai-Latte und Wiener Melange“ fragt nach Gemeinsamkeiten\, \nohne Unterschiede einzuebnen. Welche Formen von Freundschaft entstehen \nüber Kontinente hinweg? Welche ästhetischen Haltungen entwickeln sich \naus geteilten Erfahrungen von Fremdsein\, Ankommen und Weitergehen? Die \nWerke treten in einen Dialog\, der weniger auf Vergleich als auf Resonanz \nsetzt: Materialien reagieren aufeinander\, Bildsprachen überlagern sich\, \nLeerstellen werden zu Treffpunkten. \n  Dass die Ausstellung sowohl in Japan als auch in Wien gezeigt wird \n(April bis Mai 2026)\, ist mehr als eine logistische Entscheidung. Es ist \neine bewusste Verschiebung des Blickwinkels: Was in Tokio gelesen wird\, \nklingt in Wien anders – und umgekehrt. Wie ein Getränk\, das je nach \nOrt\, Wasser und Handgriff einen neuen Akzent erhält\, verändert sich \nauch die Wahrnehmung der Arbeiten. \n  Am Ende bleibt kein fertiges Rezept\, sondern ein gemeinsamer Geschmack: \nwarm\, komplex\, manchmal bitter\, manchmal sanft. Eine Einladung\, sich \nZeit zu nehmen\, zu verweilen und zu entdecken\, dass Kunst dort besonders \nlebendig wird\, wo unterschiedliche Wege sich für einen Moment (oder \nlangfristig) kreuzen. \nInfos zu der Ausstellung in Wien folgen noch. \nVielleicht ist der eine oder andere von euch zu der Zeit in Tokio\, ich würde mich freuen euch dort zu sehen!! \nSawatou
URL:https://sawatou.com/event/matcha-chai-latte-und-wiener-melange/
LOCATION:B-Gallery\, 2 Chome-31-6 Nishiikebukuro\, Toshima City\, Tokio\, 171-0021\, Japan
CATEGORIES:Ausstellungen
ATTACH;FMTTYPE=image/jpeg:https://sawatou.com/wp-content/uploads/2026/03/Flyer_Tokio_Vorderseite.jpg
ORGANIZER;CN="B-gallery":MAILTO:baru@beige.ocn.ne.jp
END:VEVENT
BEGIN:VEVENT
DTSTART;TZID=Europe/Vienna:20260514T090000
DTEND;TZID=Europe/Vienna:20260517T130000
DTSTAMP:20260421T102739
CREATED:20251114T143757Z
LAST-MODIFIED:20251114T143757Z
UID:2191-1778749200-1779022800@sawatou.com
SUMMARY:Eco & Mediumprint\, ein Geschenk der Natur
DESCRIPTION: \nEco & Mediumprint\, ein Geschenk der Natur\nIn diesem Kurs bedrucken wir Stoffe aus Wolle\, Seide\, Baumwolle und Leinen mit der Ecoprint-Technik und kombinieren diese mit farbigen Gestaltungen. Um die Farbbrillanz und Haltbarkeit der Drucke mit pflanzlichen Farbstoffen zu verbessern\, werden die Stoffe vorab gebeizt . \nDie Gestaltung beim Ecoprint wird maßgeblich von den verwendeten Pflanzen und deren natürlichen Farbstoffen bestimmt. Die Ergebnisse sind oft naturgetreu\, detailreich und leben vom Überraschungseffekt – jede Pflanze hinterlässt auf dem Stoff einen einzigartigen Abdruck. Der Fokus liegt auf der natürlichen Schönheit und Struktur der Pflanzen. \nDer Mediumprint bietet zusätzliche gestalterische Freiheit: Hier können gezielt farbige Hintergründe geschaffen werden\, die das Pflanzenmotiv ergänzen oder hervorheben. Sowohl monochrome als auch mehrfarbige Flächen sind möglich und erweitern die kreativen Ausdrucksmöglichkeiten deutlich. Die Kombination beider Techniken ermöglicht individuelle und künstlerisch anspruchsvolle Kompositionen\, die die Einzigartigkeit der Natur widerspiegeln. \nZielgruppe: alle experimentierfreudigen und interessierten Personen\nVoraussetzungen: keine\nAnzahl: max. 10 Personen\nKurszeiten: Do – Sa 09:00 – 13:00 Uhr und 14:30 – 18:00 Uhr\, So 09:00 – 13:00 Uhr\nKursgebühr: 350 Euro\, für Studierende 320 Euro (exklusive Materialkosten)
URL:https://sawatou.com/event/eco-mediumprint-ein-geschenk-der-natur/
LOCATION:Textile Kultur Haslach\, Stahlmühle 4\, Haslach\, 4170\, Österreich
CATEGORIES:Workshops Sawatou
ATTACH;FMTTYPE=image/jpeg:https://sawatou.com/wp-content/uploads/2022/08/IMG_3341-2.jpg
ORGANIZER;CN="Textile Kultur Haslach":MAILTO:o office@textiles-zentrum-haslach.at
END:VEVENT
BEGIN:VEVENT
DTSTART;TZID=Europe/Berlin:20260612T140000
DTEND;TZID=Europe/Berlin:20260626T160000
DTSTAMP:20260421T102739
CREATED:20220502T135832Z
LAST-MODIFIED:20260115T091607Z
UID:1723-1781272800-1782489600@sawatou.com
SUMMARY:Textiles Gestalten in der Sommerakademie in Zakynthos/GR
DESCRIPTION:  \nTextiles Gestalten ist ein von sinnlichen Erfahrungen geprägter Kurs. Erlebe eine andere Form des “Bei-Sich-Seins”\, in der du gleichzeitig entspannen\, kreativ sein und gestalten kannst. Wir kombinieren eine archaische Technik mit innovativem und modernem Design\, um Bilder\, Objekte und Unikate für den Alltag entstehen zu lassen. Die Materialien\, die wir verwenden – Rohwolle\, Seide\, Naturfasern – sind Naturprodukte und somit ökologisch nachhaltig. Ich helfe dir gerne\, deine eigenen Ideen umzusetzen – und Spaß ist garantiert! \nAnmeldung über die SOAK \n 
URL:https://sawatou.com/event/textiles-gestalten-in-der-sommerakademie/
LOCATION:Vasilikós\, Zakynthos\, Vasilikós\, Zakinthos\, Greece\, Griechenland
CATEGORIES:Workshops Sawatou
ATTACH;FMTTYPE=image/jpeg:https://sawatou.com/wp-content/uploads/2019/01/sawatou-meeresbewohner-.jpg
ORGANIZER;CN="Sommerakademie":MAILTO:buchung@sommerakademie.at
END:VEVENT
BEGIN:VEVENT
DTSTART;TZID=Europe/Vienna:20260703T100000
DTEND;TZID=Europe/Vienna:20260705T170000
DTSTAMP:20260421T102739
CREATED:20241106T071015Z
LAST-MODIFIED:20260115T092443Z
UID:2090-1783072800-1783270800@sawatou.com
SUMMARY:Eco & Mediumprint
DESCRIPTION:  \n  \n  \nEco & Mediumprint                                                                      \nEin künstlerischer Dialog mit der Natur \n  \nIn diesem Kurs bedrucken wir Stoffe aus Wolle\, Seide\, Baumwolle und Leinen mit der Ecoprint-Technik und kombinieren diese mit farbigen Gestaltungen. Um die Farbbrillanz und Haltbarkeit der Drucke mit pflanzlichen Farbstoffen zu verbessern\, werden die Stoffe vorab gebeizt.  Die Gestaltung beim Ecoprint wird maßgeblich von den verwendeten Pflanzen und deren natürlichen Farbstoffen bestimmt. Die Ergebnisse sind oft naturgetreu\, detailreich und leben vom Überraschungseffekt – jede Pflanze hinterlässt auf dem Stoff einen einzigartigen Abdruck. Der Fokus liegt auf der natürlichen Schönheit und Struktur der Pflanzen. \n  \nDer Mediumprint bietet zusätzliche gestalterische Freiheit: Hier können gezielt farbige Hintergründe geschaffen werden\, die das Pflanzenmotiv ergänzen oder hervorheben. Sowohl monochrome als auch mehrfarbige Flächen sind möglich und erweitern die kreativen Ausdrucksmöglichkeiten deutlich. Die Kombination beider Techniken ermöglicht individuelle und künstlerisch anspruchsvolle Kompositionen\, die die Einzigartigkeit der Natur widerspiegeln. \nDer Kurs findet in der Kunstfabrik Wien statt. Anmeldung hier \n 
URL:https://sawatou.com/event/filz-in-kombination-mit-eco-mediumprint/
LOCATION:Kunstfabrik Wien\, Deinleingasse 3\, Wien Donaustadt\, Wien\, 1220\, Österreich
CATEGORIES:Workshops Sawatou
ATTACH;FMTTYPE=image/jpeg:https://sawatou.com/wp-content/uploads/2024/11/image.jpg
ORGANIZER;CN="Kunstfabrik Wien":MAILTO:office@kunstfabrik-wien.at
END:VEVENT
END:VCALENDAR