BEGIN:VCALENDAR
VERSION:2.0
PRODID:-//sawatou - ECPv6.15.18//NONSGML v1.0//EN
CALSCALE:GREGORIAN
METHOD:PUBLISH
X-ORIGINAL-URL:https://sawatou.com
X-WR-CALDESC:Veranstaltungen für sawatou
REFRESH-INTERVAL;VALUE=DURATION:PT1H
X-Robots-Tag:noindex
X-PUBLISHED-TTL:PT1H
BEGIN:VTIMEZONE
TZID:Europe/Berlin
BEGIN:DAYLIGHT
TZOFFSETFROM:+0100
TZOFFSETTO:+0200
TZNAME:CEST
DTSTART:20230326T010000
END:DAYLIGHT
BEGIN:STANDARD
TZOFFSETFROM:+0200
TZOFFSETTO:+0100
TZNAME:CET
DTSTART:20231029T010000
END:STANDARD
BEGIN:DAYLIGHT
TZOFFSETFROM:+0100
TZOFFSETTO:+0200
TZNAME:CEST
DTSTART:20240331T010000
END:DAYLIGHT
BEGIN:STANDARD
TZOFFSETFROM:+0200
TZOFFSETTO:+0100
TZNAME:CET
DTSTART:20241027T010000
END:STANDARD
BEGIN:DAYLIGHT
TZOFFSETFROM:+0100
TZOFFSETTO:+0200
TZNAME:CEST
DTSTART:20250330T010000
END:DAYLIGHT
BEGIN:STANDARD
TZOFFSETFROM:+0200
TZOFFSETTO:+0100
TZNAME:CET
DTSTART:20251026T010000
END:STANDARD
END:VTIMEZONE
BEGIN:VEVENT
DTSTART;TZID=Europe/Berlin:20240322T180000
DTEND;TZID=Europe/Berlin:20240616T200000
DTSTAMP:20260425T142503
CREATED:20240304T165406Z
LAST-MODIFIED:20240613T093102Z
UID:1909-1711130400-1718568000@sawatou.com
SUMMARY:Ufer
DESCRIPTION:Ufer\nreal – virtuell \nam 22.März 2024 um 18:00 Uhr\nMarktplatz 177\, 3610 Weißenkirchen in der Wachau\nEröffnung\nBürgermeister Christian Geppner\nEinführende Worte Ingrid Neuhold\nAusstellende Künstlerinnen und Künstler der Berufsvereinigung der bildenden Künstler\nÖsterreichs\, LV Wien/NÖ/Bgld.\nEinladung zur Ausstellung\nder BVBK\nwww.art-bv.at\nWeißenkirchen in der Wachau\nwww.weissenkirchen-wachau.at \nAusstellende Künstlerinnen und Künstler:\nBajer Monika – Bina Gabriele – Bittner Ellen – Bruckner Franziska – Bulajić Ana –\nChimani Waltraut – Epp Gabriele – Ganser Hermi – Gartner Petra – Grabner Andreas – Heininger Friedrich\n– Helf Gabriella – Hodel-Onstein Anneke – Hopf Gerti – Kafruschy Kawa – Karbassioun Michèle –\nKlein Roswitha – Knoglinger-Janoth Barbara – Köck-Reiter Petra – Kolev Kassimir – Küchler Ilse –\nLechner Edith – Lessel Jagoda – Lichtenhofer-Wagner Brigitte – Lock Birgit – Matzner Veronika –\nMerta Regina – Mikysek Gerhard Jakob – Molinski Lidia – Mouratidou Sawatou – Neuhold Ingrid\n– Ostrovskaya Xenia – Payer Ilse – Rader Petra – Riegler Bettina – Salamon Christina – Schar\nRudolf – Smutny Erika – Székely Emese-Maria – Trivkovic Panto – Uher Gabriele – Zeiner\nSusanne – Zsolt Salamon\nDie Ausstellung ist vom 22.03.2024 bis zum 16.06.2024 zugänglich und hat jeweils Freitag\, Samstag\nund Sonntag\, sowie an Feiertagen von 10:00 bis 12:30 Uhr und von 13:00 bis 17:00 Uhr geöffnet.
URL:https://sawatou.com/event/ufer/
LOCATION:Teisenhoferhof\, Marktplatz 177\, Weißenkirchen\, 3610\, Österreich
CATEGORIES:Ausstellungen
ATTACH;FMTTYPE=image/jpeg:https://sawatou.com/wp-content/uploads/2024/03/Mouratidou_Sawatou_kreuzquer_Nunofilz-Stickerei-Druck_40x65_Euro860_Detail1-scaled.jpg
END:VEVENT
BEGIN:VEVENT
DTSTART;TZID=Europe/Berlin:20240412T140000
DTEND;TZID=Europe/Berlin:20240412T200000
DTSTAMP:20260425T142503
CREATED:20240304T140120Z
LAST-MODIFIED:20240613T093310Z
UID:1902-1712930400-1712952000@sawatou.com
SUMMARY:leichter Sommerschal
DESCRIPTION:Leichter Seidenschal im Nähkollektiv! \nIn dem 6-stündigen Workshop wird ein Schal in Nuno-Technik gefilzt. Nuno kommt aus dem Japanischen und bedeutet Gewebe. Bei diesem Workshop erlernst du die Technik\, wie Wolle und locker gewebte Stoffe miteinander verbunden werden. Du kreierst aus feinsten Wollfasern und Seide einen individuellen Schal\, der zu jeder Gelegenheit seine Trägerin schmückt und wärmt.     \nDas Ergebnis wird dich begeistern!  
URL:https://sawatou.com/event/leichter-sommerschal-2/
LOCATION:Nähkollektiv\, Mariahilferstr 53/2/24\, Wien\, 1060\, Österreich
CATEGORIES:Workshops Sawatou
ATTACH;FMTTYPE=image/jpeg:https://sawatou.com/wp-content/uploads/2024/03/Foto-2.jpg
ORGANIZER;CN="N%C3%A4hkollektiv":MAILTO:komolka@stoffe.at
END:VEVENT
END:VCALENDAR