BEGIN:VCALENDAR
VERSION:2.0
PRODID:-//sawatou - ECPv6.15.18//NONSGML v1.0//EN
CALSCALE:GREGORIAN
METHOD:PUBLISH
X-ORIGINAL-URL:https://sawatou.com
X-WR-CALDESC:Veranstaltungen für sawatou
REFRESH-INTERVAL;VALUE=DURATION:PT1H
X-Robots-Tag:noindex
X-PUBLISHED-TTL:PT1H
BEGIN:VTIMEZONE
TZID:Europe/Vienna
BEGIN:DAYLIGHT
TZOFFSETFROM:+0100
TZOFFSETTO:+0200
TZNAME:CEST
DTSTART:20240331T010000
END:DAYLIGHT
BEGIN:STANDARD
TZOFFSETFROM:+0200
TZOFFSETTO:+0100
TZNAME:CET
DTSTART:20241027T010000
END:STANDARD
BEGIN:DAYLIGHT
TZOFFSETFROM:+0100
TZOFFSETTO:+0200
TZNAME:CEST
DTSTART:20250330T010000
END:DAYLIGHT
BEGIN:STANDARD
TZOFFSETFROM:+0200
TZOFFSETTO:+0100
TZNAME:CET
DTSTART:20251026T010000
END:STANDARD
BEGIN:DAYLIGHT
TZOFFSETFROM:+0100
TZOFFSETTO:+0200
TZNAME:CEST
DTSTART:20260329T010000
END:DAYLIGHT
BEGIN:STANDARD
TZOFFSETFROM:+0200
TZOFFSETTO:+0100
TZNAME:CET
DTSTART:20261025T010000
END:STANDARD
END:VTIMEZONE
BEGIN:VEVENT
DTSTART;TZID=Europe/Vienna:20250228T150000
DTEND;TZID=Europe/Vienna:20250315T170000
DTSTAMP:20260423T162305
CREATED:20250218T174634Z
LAST-MODIFIED:20250218T175050Z
UID:2135-1740754800-1742058000@sawatou.com
SUMMARY:„Litera(tur) sichtbar“
DESCRIPTION:  \n„Litera(tur) sichtbar“ \n\n  \nEinladung zur Ausstellungseröffnung\nFreitag\, 28. Feb 2025 von 15:00 bis 17:00 Uhr \nIch lade euch herzlich zur Ausstellung „Litera(tur) sichtbar“ in den Kunstsalon Schönbrunn im Schloss Schönbrunn ein. \nFür die Ausstellung haben Mitglieder der Berufsvereinigung der bildenden Künstler Österreichs – zu denen auch ich gehöre – Texte\, Worte und Buchstaben\, welche ein literarischer Inhalt vermittelt\, durch verschiedenste künstlerische Ausdrucksmittel dauerhaft sichtbar gemacht.\nNeben Gemälden\, Skulpturen und Objekten gibt es einen Life-Act zum Thema der Ausstellung mit der Mezzosopranistin Monika Retter und Jakob Weingartner am Keyboard. \nÖffnungszeiten:\nBis 19. März 2025 | jeden Mittwoch 10-15 Uhr \nFreue mich sehr auf euer Kommen!
URL:https://sawatou.com/event/literatur-sichtbar/
LOCATION:Schloss Schönbrunn\, Ovalstiege 40\, Wien\, 1130\, Österreich
CATEGORIES:Ausstellungen
ATTACH;FMTTYPE=image/jpeg:https://sawatou.com/wp-content/uploads/2025/02/BV-Einladung-Literatur-sichtbar-Seite-1_JPG-Datei.jpg
END:VEVENT
BEGIN:VEVENT
DTSTART;TZID=Europe/Vienna:20250307T190000
DTEND;TZID=Europe/Vienna:20250424T200000
DTSTAMP:20260423T162305
CREATED:20250218T191556Z
LAST-MODIFIED:20250218T191848Z
UID:2142-1741374000-1745524800@sawatou.com
SUMMARY:"100 x 100: kleines Format\, ganz groß“
DESCRIPTION:  \nIch lade Sie/euch herzlich zur Ausstellung “100 x 100 kleines Format ganz groß” in der art bv Berchtoldvilla in Salzburg\, ein. \nVernissage: Freitag\, 07. März 2025\, 19:00 Uhr \nKooperationsausstellung\nart bv Berchtoldvilla – Kerikeri\, Neuseeland \nAus Neuseeland hat Andrea Lacher-Bryk eine ungewöhnliche Ausstellungsidee mitgebracht.In Kerikeri\, wo die Idee vor Jahrzehnten geboren wurde\, ist das Besucherecho konstant enorm und jedes Jahr finden schon am Eröffnungsabend die meisten Arbeiten ihre neuen Besitzer. \nEs stellen 50 Künstle:innen aus Neuseeland und 50 Künstler:innen aus Österreich aus! \nDie einzige Vorgabe betrifft das Format. Es ist klein\, sogar sehr klein:  \n100 x 100 mm Größe. \n\nBegrüßung: Monika Maria Weiß\, Vorstand art bv Berchtoldvilla\nEröffnung: MMag. Kerstin Klimmer-Kettner\, Kunsthistorikerin;\nReferat Kunst und Kultur\, Land Salzburg\nEinleitende Worte: Andrea Lacher-Bryk\nZu den Ausstellungen sprechen: Johanna Hartung\, Guggi Lukarsch\,\nAnke Neubacher und Gabriele Straschil \nAusstellungsdauer: 08. März – 24. April 2025 \n 
URL:https://sawatou.com/event/100-x-100-kleines-format-ganz-gross/
LOCATION:art bv Berchtoldvilla Salzburg\, Josef-Preis-Allee 12\, Salzburg\, 5020\, Austria
CATEGORIES:Ausstellungen
ATTACH;FMTTYPE=image/jpeg:https://sawatou.com/wp-content/uploads/2025/02/IMG_4425.jpg
ORGANIZER;CN="art bv Berchtoldvilla":MAILTO:office@artbv-salzburg.at
END:VEVENT
END:VCALENDAR