BEGIN:VCALENDAR
VERSION:2.0
PRODID:-//sawatou - ECPv6.15.18//NONSGML v1.0//EN
CALSCALE:GREGORIAN
METHOD:PUBLISH
X-WR-CALNAME:sawatou
X-ORIGINAL-URL:https://sawatou.com
X-WR-CALDESC:Veranstaltungen für sawatou
REFRESH-INTERVAL;VALUE=DURATION:PT1H
X-Robots-Tag:noindex
X-PUBLISHED-TTL:PT1H
BEGIN:VTIMEZONE
TZID:Europe/Berlin
BEGIN:DAYLIGHT
TZOFFSETFROM:+0100
TZOFFSETTO:+0200
TZNAME:CEST
DTSTART:20210328T010000
END:DAYLIGHT
BEGIN:STANDARD
TZOFFSETFROM:+0200
TZOFFSETTO:+0100
TZNAME:CET
DTSTART:20211031T010000
END:STANDARD
BEGIN:DAYLIGHT
TZOFFSETFROM:+0100
TZOFFSETTO:+0200
TZNAME:CEST
DTSTART:20220327T010000
END:DAYLIGHT
BEGIN:STANDARD
TZOFFSETFROM:+0200
TZOFFSETTO:+0100
TZNAME:CET
DTSTART:20221030T010000
END:STANDARD
BEGIN:DAYLIGHT
TZOFFSETFROM:+0100
TZOFFSETTO:+0200
TZNAME:CEST
DTSTART:20230326T010000
END:DAYLIGHT
BEGIN:STANDARD
TZOFFSETFROM:+0200
TZOFFSETTO:+0100
TZNAME:CET
DTSTART:20231029T010000
END:STANDARD
END:VTIMEZONE
BEGIN:VEVENT
DTSTART;TZID=Europe/Berlin:20220514T170000
DTEND;TZID=Europe/Berlin:20220520T233000
DTSTAMP:20260420T161709
CREATED:20220502T151455Z
LAST-MODIFIED:20220502T152150Z
UID:1738-1652547600-1653089400@sawatou.com
SUMMARY:"Mehr als Licht-Schattenraum"
DESCRIPTION:Vernisage ist am Freitag den 13 Mai 2022\, um 19:00 Uhr! \nFreue mich auf nette Begegnungen und gute Gespräche!!
URL:https://sawatou.com/event/mehr-als-licht-schattenraum/
LOCATION:Timo’s Living Room\, Bürgerspitalgasse 20\, Wien\, 1060\, Österreich
CATEGORIES:Ausstellungen
ATTACH;FMTTYPE=image/jpeg:https://sawatou.com/wp-content/uploads/2022/05/Einladung_Mehr-als-Licht-Schattenraum-BVBK.jpg
END:VEVENT
END:VCALENDAR