BEGIN:VCALENDAR
VERSION:2.0
PRODID:-//sawatou - ECPv6.15.18//NONSGML v1.0//EN
CALSCALE:GREGORIAN
METHOD:PUBLISH
X-ORIGINAL-URL:https://sawatou.com
X-WR-CALDESC:Veranstaltungen für sawatou
REFRESH-INTERVAL;VALUE=DURATION:PT1H
X-Robots-Tag:noindex
X-PUBLISHED-TTL:PT1H
BEGIN:VTIMEZONE
TZID:Europe/Vienna
BEGIN:DAYLIGHT
TZOFFSETFROM:+0100
TZOFFSETTO:+0200
TZNAME:CEST
DTSTART:20240331T010000
END:DAYLIGHT
BEGIN:STANDARD
TZOFFSETFROM:+0200
TZOFFSETTO:+0100
TZNAME:CET
DTSTART:20241027T010000
END:STANDARD
BEGIN:DAYLIGHT
TZOFFSETFROM:+0100
TZOFFSETTO:+0200
TZNAME:CEST
DTSTART:20250330T010000
END:DAYLIGHT
BEGIN:STANDARD
TZOFFSETFROM:+0200
TZOFFSETTO:+0100
TZNAME:CET
DTSTART:20251026T010000
END:STANDARD
BEGIN:DAYLIGHT
TZOFFSETFROM:+0100
TZOFFSETTO:+0200
TZNAME:CEST
DTSTART:20260329T010000
END:DAYLIGHT
BEGIN:STANDARD
TZOFFSETFROM:+0200
TZOFFSETTO:+0100
TZNAME:CET
DTSTART:20261025T010000
END:STANDARD
END:VTIMEZONE
BEGIN:VEVENT
DTSTART;TZID=Europe/Vienna:20250116T183000
DTEND;TZID=Europe/Vienna:20250217T203000
DTSTAMP:20260420T154357
CREATED:20250102T193828Z
LAST-MODIFIED:20250102T193828Z
UID:2115-1737052200-1739824200@sawatou.com
SUMMARY:gekommen um zu bleiben
DESCRIPTION:  \nAlltags- und Frauengeschichten haben in der traditionellen Geschichtsschreibung kaum eine Rolle gespielt\, denn sie sind fast durchgehend aus einem männlichen Blickwinkel heraus entstanden und aufgezeichnet worden – große Männer\, große Schlachten\, Heldentaten. Dabei gab es zu jeder Zeit auch etliche Frauen\, die gestaltet haben\, die Teilhabe eingefordert haben und welche die Gesellschaft entscheidend mitgeprägt haben.\nMit der Ausstellung wollen wir diese Frauen und ihre Taten sichtbar machen sowie jenen Frauen\, welche über Jahrhunderte zu kurz kamen oder unterdrückt wurden aber auch Frauen ganz allgemein „Raum geben“\, denn sie alle sind „gekommen um zu bleiben“. \nE I N L A D U N G zur A U S S T E L L U N G\n“gekommen um zu bleiben” \nEine Ausstellung der  Berufsvereinigung der bildenden Künstler Österreichs\,LV Wien/NÖ/Bgld\, in Kooperation mit ega : frauen im zentrum. \nEröffnung\n16.01.2025 um 18:30 Uhr\nim ega: frauen im zentrum\, Windmühlgasse 26\, 1060 Wien \nEröffnung durch  Frau Bez.-Rätin Mag.a Terri Lynn Helber-Treipl \nAusstellende Künstlerinnen und Künstler\nAmerbauer Martin\, Bina Gabriele\, Bulajic Ana\, Chimani Waltraut\, Blühberger Jutta\, Brauner-Baumgartner Gertrud\,\nFarzaneh Parizad\, Gaenszle Linda\, Ganser Hermi\, Helf Gabriella\, Hofmeister Angelika\, Hopf Gerti\, Hussein Fadhil\, Kafruschy Kawa\,\nKarbassioun Michèle\, Kos Tonia\, Merta Regina\, Mouratidou Sawatou\, Ribisch Bettina\, Sandhofer Edith\, Scherabon Isabella\,\nTschank Heidi\, Vilem-Weber Walburga\, Weiland Barbara\, Wolf Kristina Viera\, Zierl Berthild \nÖffnungszeiten bis 17.02.2025\, Mo-Mi von 11:00 – 16:00 Uhr \n  \n  \n 
URL:https://sawatou.com/event/gekommen-um-zu-bleiben/
LOCATION:ega : frauen im zentrum\, Windmühlengasse 26\, Wien\, 1060\, Austria
CATEGORIES:Ausstellungen
ATTACH;FMTTYPE=image/jpeg:https://sawatou.com/wp-content/uploads/2021/08/Anefikti_4_S_Mouratidou-scaled.jpg
END:VEVENT
END:VCALENDAR