BEGIN:VCALENDAR
VERSION:2.0
PRODID:-//sawatou - ECPv6.15.18//NONSGML v1.0//EN
CALSCALE:GREGORIAN
METHOD:PUBLISH
X-WR-CALNAME:sawatou
X-ORIGINAL-URL:https://sawatou.com
X-WR-CALDESC:Veranstaltungen für sawatou
REFRESH-INTERVAL;VALUE=DURATION:PT1H
X-Robots-Tag:noindex
X-PUBLISHED-TTL:PT1H
BEGIN:VTIMEZONE
TZID:Europe/Berlin
BEGIN:DAYLIGHT
TZOFFSETFROM:+0100
TZOFFSETTO:+0200
TZNAME:CEST
DTSTART:20180325T010000
END:DAYLIGHT
BEGIN:STANDARD
TZOFFSETFROM:+0200
TZOFFSETTO:+0100
TZNAME:CET
DTSTART:20181028T010000
END:STANDARD
BEGIN:DAYLIGHT
TZOFFSETFROM:+0100
TZOFFSETTO:+0200
TZNAME:CEST
DTSTART:20190331T010000
END:DAYLIGHT
BEGIN:STANDARD
TZOFFSETFROM:+0200
TZOFFSETTO:+0100
TZNAME:CET
DTSTART:20191027T010000
END:STANDARD
BEGIN:DAYLIGHT
TZOFFSETFROM:+0100
TZOFFSETTO:+0200
TZNAME:CEST
DTSTART:20200329T010000
END:DAYLIGHT
BEGIN:STANDARD
TZOFFSETFROM:+0200
TZOFFSETTO:+0100
TZNAME:CET
DTSTART:20201025T010000
END:STANDARD
END:VTIMEZONE
BEGIN:VEVENT
DTSTART;TZID=Europe/Berlin:20190520T093000
DTEND;TZID=Europe/Berlin:20190520T173000
DTSTAMP:20260424T125152
CREATED:20190102T180259Z
LAST-MODIFIED:20190211T125154Z
UID:1037-1558344600-1558373400@sawatou.com
SUMMARY:Kleine Tasche mit Annemie Koenen
DESCRIPTION:Annemie Koenen \nKleine bestickte Tasche mit Bügelverschluß \nMeine große Liebe ist freies Sticken auf Filz.\nAm Morgen filzen wir und am Nachmittag sticken wir. Es ist auch möglich fertigen Filz mit zu bringen und den ganzen Tag zu sticken.\nViele Stiche – von leicht bis schwer – können erlernt werden. Wir arbeiten mit verschiedenen Arten von Fäden. \nEin hübsches (kleines) Kunstwerk entsteht. \nMaterialliste für die Teilnehmer: \n Handgefärbte Merino/Seide\, Stickgarne\, Bügelverschlusse\, Sticknadeln \n\nFilzzubehör: Schüssel für Wasser\, Olivenseife\, Ballbrause oder etwas ähnliches\, 2 kleine Handtücher\, Gardine zum wenden.\nTrittschalldämmung – kleines Stück\nTaschenrechner\nMetermass\nSchere für Trittschalldämmung\nBügelverschluss\, wenn nötig\nStickgarn aus Seide\, Baumwolle oder Wolle\, jenachdem was bevorzugt wird.\nKleine scharfe Textilschere\nNadeln für verschiedene Stickarten und für kleine Perlen\nKleine Objekte aus Stein\, Glas\, Metall oder Spiegelchen\, mit einem Durchmesser von ungefähr 2 cm\, Perlen\nSeide oder andere Materialen wie Baumwollstoff oder Garne zum einfilzen\nKleines dickes Stück Filz zum üben der Stiche\n\nANMELDUNG
URL:https://sawatou.com/event/kleine-tasche-mit-annemie-koenen/
LOCATION:Atelier Sawatou\, Wien\, Wien\, 1130\, Österreich
CATEGORIES:Workshops mit internat. Künstlern
ORGANIZER;CN="Sawatou":MAILTO:sawatoum@yahoo.de
END:VEVENT
END:VCALENDAR