BEGIN:VCALENDAR
VERSION:2.0
PRODID:-//sawatou - ECPv6.15.18//NONSGML v1.0//EN
CALSCALE:GREGORIAN
METHOD:PUBLISH
X-ORIGINAL-URL:https://sawatou.com
X-WR-CALDESC:Veranstaltungen für sawatou
REFRESH-INTERVAL;VALUE=DURATION:PT1H
X-Robots-Tag:noindex
X-PUBLISHED-TTL:PT1H
BEGIN:VTIMEZONE
TZID:Europe/Berlin
BEGIN:DAYLIGHT
TZOFFSETFROM:+0100
TZOFFSETTO:+0200
TZNAME:CEST
DTSTART:20180325T010000
END:DAYLIGHT
BEGIN:STANDARD
TZOFFSETFROM:+0200
TZOFFSETTO:+0100
TZNAME:CET
DTSTART:20181028T010000
END:STANDARD
BEGIN:DAYLIGHT
TZOFFSETFROM:+0100
TZOFFSETTO:+0200
TZNAME:CEST
DTSTART:20190331T010000
END:DAYLIGHT
BEGIN:STANDARD
TZOFFSETFROM:+0200
TZOFFSETTO:+0100
TZNAME:CET
DTSTART:20191027T010000
END:STANDARD
BEGIN:DAYLIGHT
TZOFFSETFROM:+0100
TZOFFSETTO:+0200
TZNAME:CEST
DTSTART:20200329T010000
END:DAYLIGHT
BEGIN:STANDARD
TZOFFSETFROM:+0200
TZOFFSETTO:+0100
TZNAME:CET
DTSTART:20201025T010000
END:STANDARD
END:VTIMEZONE
BEGIN:VEVENT
DTSTART;TZID=Europe/Berlin:20191018T093000
DTEND;TZID=Europe/Berlin:20191020T170000
DTSTAMP:20260421T194400
CREATED:20190115T191709Z
LAST-MODIFIED:20190211T124923Z
UID:1083-1571391000-1571590800@sawatou.com
SUMMARY:eco-print und Filz
DESCRIPTION:In diesem Workshop werden die TeilnehmerInnen als erstes Ihren Seidenstoff im EcoPrint Vefahren bedrucken um dann mit der Nuno Technik den Schal zu vollenden. Der Ablauf des Prints ist folgender:Blätter werden auf den feuchten\, in der Regel vorbehandelten Stoff gelegt. Der Stoff wird fest auf ein Rohr gerollt. \nDas Bündel wird fest verschnürt und ca 1 Stunde gedämpft. Nach dem Abkühlen wird es ausgepackt und die Blaetter werden entfernt\, den Stoff lässt man nun etwas ruhen\, damit er Sauerstoff aufneh-men kann um so einen intensivieren Druck zu bekommen. Dann wird er gewaschen\, gebügelt und ist fertig zur weiteren Verarbeitung. \nBei der Nuno Technik lernen die TeilnehmerInnen wie Wolle und locker gewebte Stoffe miteinander verbunden werden. Wir experimentieren mit verschiedenen Stoffen und Garnen um ein Grundverständnis dieser Fusion zu bekommen. Anschließend kreieren wir aus dem in Eco Print bedruckten Stoff (aber nicht nur) einen individuellen Schal\, der zu jeder Gelegenheit seinen Träger schmückt und wärmt. \nÜber Sawatou \nKlatschmohn – fragil und trotzdem stark \nIch bin in einem kleinen Dorf in den griechischen Bergen aufgewachsen\, umgeben von schönen Wiesen\, die im Frühsommer mit unendlich vielen Mohnblumen gefüllt sind. \nDieses überwältigende Bild von der zarten Blume\, die in Schönheit\, Farbintensität und Standhaftigkeit nicht zu überbieten ist\, blieb mir seither in Erinnerung und ist die Quelle meine inneren Antriebskraft.\nWolle hat ähnliche Eigenschaften\, sodass die Mohnblüte mein Markenzeichen geworden ist. \nSeitdem ich denken kann\, bin ich mit textile Arbeiten verwoben. In meinem Elternhaus wurde gesponnen\, gestrickt\, gewebt\, gestickt und genäht. Lange Jahre in mir getragen\, hat sich das Textile wieder seinen Weg nach außen gebannt um durch die Wolle mir einen neuen Weg zu zeigen\, der mich täglich mit Freude erfüllt. \n  \n3 Kurstage \nFr 18. – So 20. Okt 2019 \n9.30 bis 17.00 Uhr \nMin. 4 bis max. 8 TN \n330\,– Euro/pP \nANMELDUNG
URL:https://sawatou.com/event/eco-print-und-filz/
LOCATION:Kunstfabrik Wien\, Deinleingasse 3\, Wien Donaustadt\, Wien\, 1220\, Österreich
CATEGORIES:Workshops Sawatou
ORGANIZER;CN="Sawatou":MAILTO:sawatoum@yahoo.de
END:VEVENT
END:VCALENDAR