BEGIN:VCALENDAR
VERSION:2.0
PRODID:-//sawatou - ECPv6.15.18//NONSGML v1.0//EN
CALSCALE:GREGORIAN
METHOD:PUBLISH
X-WR-CALNAME:sawatou
X-ORIGINAL-URL:https://sawatou.com
X-WR-CALDESC:Veranstaltungen für sawatou
REFRESH-INTERVAL;VALUE=DURATION:PT1H
X-Robots-Tag:noindex
X-PUBLISHED-TTL:PT1H
BEGIN:VTIMEZONE
TZID:Europe/Berlin
BEGIN:DAYLIGHT
TZOFFSETFROM:+0100
TZOFFSETTO:+0200
TZNAME:CEST
DTSTART:20210328T010000
END:DAYLIGHT
BEGIN:STANDARD
TZOFFSETFROM:+0200
TZOFFSETTO:+0100
TZNAME:CET
DTSTART:20211031T010000
END:STANDARD
BEGIN:DAYLIGHT
TZOFFSETFROM:+0100
TZOFFSETTO:+0200
TZNAME:CEST
DTSTART:20220327T010000
END:DAYLIGHT
BEGIN:STANDARD
TZOFFSETFROM:+0200
TZOFFSETTO:+0100
TZNAME:CET
DTSTART:20221030T010000
END:STANDARD
BEGIN:DAYLIGHT
TZOFFSETFROM:+0100
TZOFFSETTO:+0200
TZNAME:CEST
DTSTART:20230326T010000
END:DAYLIGHT
BEGIN:STANDARD
TZOFFSETFROM:+0200
TZOFFSETTO:+0100
TZNAME:CET
DTSTART:20231029T010000
END:STANDARD
END:VTIMEZONE
BEGIN:VEVENT
DTSTART;TZID=Europe/Berlin:20220910T140000
DTEND;TZID=Europe/Berlin:20220912T150000
DTSTAMP:20260420T142923
CREATED:20220829T160834Z
LAST-MODIFIED:20220829T160928Z
UID:1768-1662818400-1662994800@sawatou.com
SUMMARY:Austellung "Freiheit" im Schloss Schönbrunn
DESCRIPTION:Herzliche Einladung zur   Ausstellung „Freiheit“ \nVernissage & Preisverleihung anlässlich des Schmuckwettbewerb im Rahmen des diesjährigen ART-Awards in der Kategorie „Angewandte Kunst“\, der Berufsvereinigung der bildenden Künstler Österreichs.\n \nIch freue mich sehr\, daß mein Werk “skurill und abgefahren” unter den 10 “ausgesuchten” Werken ist und ausgestellt wird.\n \nEröffnung & Vernissage; Samstag 10. Sept 14:00\nGeöffnet von 14:00 – 17:00\n \nSonntag\, 11. Sept 11:00 – 15:00\nMontag\, 12. Sept 12:00 – 15:00\n \nKunstsalon Schönbrunn\nSchloss Schönbrunn\, Ovalstiege 40\, 3. Stock\, 1130 Wien\n \nAuf viele Besucher\, freue ich mich ganz besonders!!\n \n 
URL:https://sawatou.com/event/1768/
LOCATION:Kunstsalon\, Schloss Schönbrunn\, Schönbrunner Schloßstraße 47\, Wien\, 1130\, Österreich
CATEGORIES:Ausstellungen
ATTACH;FMTTYPE=image/jpeg:https://sawatou.com/wp-content/uploads/2022/08/BV-ArtAward-2022-e-invite_10Sept.jpg
END:VEVENT
BEGIN:VEVENT
DTSTART;TZID=Europe/Berlin:20220921T190000
DTEND;TZID=Europe/Berlin:20221014T153000
DTSTAMP:20260420T142923
CREATED:20220914T160741Z
LAST-MODIFIED:20220914T160926Z
UID:1796-1663786800-1665761400@sawatou.com
SUMMARY:Best of ÖGKM 2022
DESCRIPTION:Herzliche Einladung zu der Ausstellung: \n“Best of ÖGKM 2022” \, 21.09 – 14.10.2022\, MO-Fr von 7.30-15.30 \nDort zeige ich meine Skulptur “Anefikti”\, aus der Serie “Antropos- Mensch sein” und freue mich bei der Eröffnung auf Euren Besuch! \nVernissage : 21.09.2022\, 19:00 \nAmtshaus Margareten Festsaal\n1050 Wien\, Schönbrunner Straße 54 \nProgramm:\nBegrüßungen\nVorstellung der ÖGKM (Österreichische Gesellschaft für Kunst und Medizin)\nVorstellung der ausstellenden Künstler*innen\nEröffnung und Besuch der Ausstellung \nGemütlicher Ausklang mit Brötchen und\nWeinverkostung (Weingut Heiderer-Mayer)
URL:https://sawatou.com/event/best-of-oegkm-2022/
LOCATION:Amtshaus Margareten\, Schönbrunner Str. 54\, Wien\, 1050\, Österreich
CATEGORIES:Ausstellungen
ATTACH;FMTTYPE=image/jpeg:https://sawatou.com/wp-content/uploads/2021/08/Anefikti_4_S_Mouratidou-scaled.jpg
ORGANIZER;CN="%C3%96GKM":MAILTO:info@oegkm.net
END:VEVENT
END:VCALENDAR