BEGIN:VCALENDAR
VERSION:2.0
PRODID:-//sawatou - ECPv6.15.18//NONSGML v1.0//EN
CALSCALE:GREGORIAN
METHOD:PUBLISH
X-WR-CALNAME:sawatou
X-ORIGINAL-URL:https://sawatou.com
X-WR-CALDESC:Veranstaltungen für sawatou
REFRESH-INTERVAL;VALUE=DURATION:PT1H
X-Robots-Tag:noindex
X-PUBLISHED-TTL:PT1H
BEGIN:VTIMEZONE
TZID:Europe/Berlin
BEGIN:DAYLIGHT
TZOFFSETFROM:+0100
TZOFFSETTO:+0200
TZNAME:CEST
DTSTART:20210328T010000
END:DAYLIGHT
BEGIN:STANDARD
TZOFFSETFROM:+0200
TZOFFSETTO:+0100
TZNAME:CET
DTSTART:20211031T010000
END:STANDARD
BEGIN:DAYLIGHT
TZOFFSETFROM:+0100
TZOFFSETTO:+0200
TZNAME:CEST
DTSTART:20220327T010000
END:DAYLIGHT
BEGIN:STANDARD
TZOFFSETFROM:+0200
TZOFFSETTO:+0100
TZNAME:CET
DTSTART:20221030T010000
END:STANDARD
BEGIN:DAYLIGHT
TZOFFSETFROM:+0100
TZOFFSETTO:+0200
TZNAME:CEST
DTSTART:20230326T010000
END:DAYLIGHT
BEGIN:STANDARD
TZOFFSETFROM:+0200
TZOFFSETTO:+0100
TZNAME:CET
DTSTART:20231029T010000
END:STANDARD
END:VTIMEZONE
BEGIN:VEVENT
DTSTART;TZID=Europe/Berlin:20220921T190000
DTEND;TZID=Europe/Berlin:20221014T153000
DTSTAMP:20260420T125943
CREATED:20220914T160741Z
LAST-MODIFIED:20220914T160926Z
UID:1796-1663786800-1665761400@sawatou.com
SUMMARY:Best of ÖGKM 2022
DESCRIPTION:Herzliche Einladung zu der Ausstellung: \n“Best of ÖGKM 2022” \, 21.09 – 14.10.2022\, MO-Fr von 7.30-15.30 \nDort zeige ich meine Skulptur “Anefikti”\, aus der Serie “Antropos- Mensch sein” und freue mich bei der Eröffnung auf Euren Besuch! \nVernissage : 21.09.2022\, 19:00 \nAmtshaus Margareten Festsaal\n1050 Wien\, Schönbrunner Straße 54 \nProgramm:\nBegrüßungen\nVorstellung der ÖGKM (Österreichische Gesellschaft für Kunst und Medizin)\nVorstellung der ausstellenden Künstler*innen\nEröffnung und Besuch der Ausstellung \nGemütlicher Ausklang mit Brötchen und\nWeinverkostung (Weingut Heiderer-Mayer)
URL:https://sawatou.com/event/best-of-oegkm-2022/
LOCATION:Amtshaus Margareten\, Schönbrunner Str. 54\, Wien\, 1050\, Österreich
CATEGORIES:Ausstellungen
ATTACH;FMTTYPE=image/jpeg:https://sawatou.com/wp-content/uploads/2021/08/Anefikti_4_S_Mouratidou-scaled.jpg
ORGANIZER;CN="%C3%96GKM":MAILTO:info@oegkm.net
END:VEVENT
BEGIN:VEVENT
DTSTART;TZID=Europe/Berlin:20221010T183000
DTEND;TZID=Europe/Berlin:20221020T183000
DTSTAMP:20260420T125943
CREATED:20220914T131220Z
LAST-MODIFIED:20220914T155112Z
UID:1790-1665426600-1666290600@sawatou.com
SUMMARY:Wir WOLLEn Kunststoff
DESCRIPTION:Neben Organisatorin und Kuratorin dieser Ausstellung\, freue ich mich sehr auch als Künstlerin dabei zu sein. \nMit meinem Werk ” Im Wandel” setzte ich mich mit dem Wandel in unseren gesellschaftlichen Strukturen auseinander. \nDas soziale Zusammenleben und die Wertevorstellung werden dadurch verändert und führen zu anderen Verhaltensweisen wie zu veränderten Denkweisen. Bislang galt die Familie als wichtiger Anker für Individuen\, doch es sind mit der Zeit andere Lebensformen entstanden\, die den Einzelnen die nötige Stabilität geben um mit gewandelten Bedingungen gut fertig zu werden. \nAusstellung: Wir WOLLEn Kunststoff    \nGalerie am Park\, Liniengasse 2a\, 1060 Wien \n10.-20. Oktober 2022 \nVernissage: Montag\, 10.10.2022\, 18.30 Uhr; Finissage: Donnerstag 20.10.2022\, 17.00 Uhr \nÖffnungszeiten: täglich von 15.00 Uhr bis 19.00 Uhr und nach telefonischer Anmeldung \nEs gibt ein kleines aber feines Rahmenprogramm zur der Ausstellung.Hier nur einer der Highlights: \nAm 12 Oktober laden wir Sie herzlich ein zu einem sehr spannenden Abend\, durch den uns  Robert Seeger führen wird. \n\nFilmvorführung von Plastic Planet von Werner Boote\neinen Vortrag zum Thema „Zero Waste“ mit Claudia Mäser von Bio-unverpackt-Laden „Lieber Ohne“\nEin Vortrag über DIY & Upcycling und schlauen Umgang mit Ressourcen\, von Dr. Ingrid Luttenberger\nsowie eine anschließenden Diskussionsrunde\n\nEinlass 18.00 Uhr\, Beginn 18.15 Uhr. Bitte um Anmeldung unter: wollkunst@wollmodus.at\, da nur begrentze Teilnehmerzahl möglich. \nAlle Infos sind bei Wollmodus zu finden. \n  \nIch freue mich sehr auf Euer kommen! \nSawatou
URL:https://sawatou.com/event/wir-wollen-kunststoff/
LOCATION:Galerie am Park\, Liniengasse 2A\, Wien\, 1060\, Österreich
CATEGORIES:Ausstellungen
ATTACH;FMTTYPE=image/jpeg:https://sawatou.com/wp-content/uploads/2022/09/CAF22_Front_fin_web.jpg
ORGANIZER;CN="wollmodus":MAILTO:info@wollmodus.at
END:VEVENT
BEGIN:VEVENT
DTSTART;TZID=Europe/Berlin:20221026T093000
DTEND;TZID=Europe/Berlin:20221030T180000
DTSTAMP:20260420T125943
CREATED:20191113T120144Z
LAST-MODIFIED:20220502T133218Z
UID:1175-1666776600-1667152800@sawatou.com
SUMMARY:Human Masks in Felt with Gladys Paulus
DESCRIPTION:  \n \nHuman Masks in Felt: from design to 3-D Object \nAn intensive 5 day master class with Gladys Paulus \n  \nDuring this 5 day technical master class with UK-based textile artist Gladys Paulus\, you will learn how to calculate\, design and create a base resist template which will become the starting point for an experimental and playful fantasy mask. Mask making requires a combined approach of thorough planning and intuitive felt making. More than just a face cover\, these masks will cover the head completely and are sculptures in their own right. You will learn how to achieve facial symmetry\, experiment with different types of protrusions and colour\, build up features and markings\, create hair or textural surfaces\, how to felt all the 3-dimensional parts together and how to sculpt and shape the felt. \n  \n  \nYou will be guided through the techniques step by step. Learning is supported through practical demonstrations\, one-to-one consultations\, hand outs and illustrated explanations.\nYou are free to incorporate abstract\, and fantastical elements into your mask. You are encouraged to consider a variety of felting techniques and surface decorations to enhance your design. Creative expression within the design of each mask is actively encouraged\, but please bear in mind that\, given the time restraints of the workshop and the time consuming nature of felting masks\, you will be asked to keep designs relatively simple so that you will be able to finish the mask in the time available. For this reason too\, the tutor may recommend adapting or simplifying overly ambitious designs.\nPlease come ready for hard work as well as lots of fun and bring plenty of ideas\, inspirational photographs and sketches; you will have an opportunity to discuss these with the tutor during the workshop.\nPLEASE NOTE:\n• You will be required to make a small felt sample before the workshop.\n• This master class will be taught in English. Some written handouts will be supplied.\nCOURSE OUTLINE:\nDAY 1: Shrinkage / designing & preparing the resist / laying out\nDAY 2: Laying out / eyes / attachments\nDAY 3: Laying out / surfaces and hair\nDAY 4: Final opportunity to lay out / felting\nDAY 5: Sculpting / finishes\nExperience level\nMask making in felt is a complicated\, demanding and physical process and requires stamina and determination. In order to complete the masks in this master class\, daily tasks will be set and the pace will be demanding. For this reason\, regrettably\, this master class is NOT suitable for beginners or those suffering from back or hand/arm injuries or other health issues that prevent you from standing/felting for long periods of time.\nThere will be no time to go over any basics during this master class and you should have a thorough practical understanding of wet felting in general\, and making 3-dimensional wet felt around a resist in particular.\nFurthermore\, you will have a willingness and ability to work additional untutored hours\, if necessary\, to achieve the daily targets set. An aptitude for sculptural form will be helpful\, though not a requirement\, as the tutor will be on hand to guide.\nAbout the tutor: \nThis master class will be taught by Gladys Paulus\, a professional textile artist with a background in fine art painting and teaching\, based in the UK. \nShe is an exhibiting member of the 62 Group of Textile Artists\, and a member of the Crafts Council Selected Index of Makers and the International Feltmakers Association. Her work has been exhibited in galleries across the UK\, and her masks have featured in theatre\, fashion magazines\, television and film. \nGladys’ s workshops are in demand nationally and internationally and over the years she has taught hundreds of textile enthusiasts and professionals. She asks a lot from her students\, and give a lot back in return. Gladys is interested in the nature of the creative process and learning through experimentation & play\, and she likes to encourage her students to come with an experimental attitude. Likewise\, her own techniques are born from experimentation\, and continue to develop and evolve as the nature of her art work develops.\nhttps://www.gladyspaulus.co.uk \nANMELDUNG
URL:https://sawatou.com/event/human-masks-in-felt-with-gladys-paulus/
LOCATION:Nähkollektiv\, Mariahilferstr 53/2/24\, Wien\, 1060\, Österreich
CATEGORIES:Workshops mit internat. Künstlern
ATTACH;FMTTYPE=image/png:https://sawatou.com/wp-content/uploads/2019/10/Mende-head-by-Gladys-Paulus.png
ORGANIZER;CN="Sawatou Mouratidou":MAILTO:sawatoum@yahoo.de
END:VEVENT
END:VCALENDAR