BEGIN:VCALENDAR
VERSION:2.0
PRODID:-//sawatou - ECPv6.15.18//NONSGML v1.0//EN
CALSCALE:GREGORIAN
METHOD:PUBLISH
X-ORIGINAL-URL:https://sawatou.com
X-WR-CALDESC:Veranstaltungen für sawatou
REFRESH-INTERVAL;VALUE=DURATION:PT1H
X-Robots-Tag:noindex
X-PUBLISHED-TTL:PT1H
BEGIN:VTIMEZONE
TZID:Europe/Berlin
BEGIN:DAYLIGHT
TZOFFSETFROM:+0100
TZOFFSETTO:+0200
TZNAME:CEST
DTSTART:20200329T010000
END:DAYLIGHT
BEGIN:STANDARD
TZOFFSETFROM:+0200
TZOFFSETTO:+0100
TZNAME:CET
DTSTART:20201025T010000
END:STANDARD
BEGIN:DAYLIGHT
TZOFFSETFROM:+0100
TZOFFSETTO:+0200
TZNAME:CEST
DTSTART:20210328T010000
END:DAYLIGHT
BEGIN:STANDARD
TZOFFSETFROM:+0200
TZOFFSETTO:+0100
TZNAME:CET
DTSTART:20211031T010000
END:STANDARD
BEGIN:DAYLIGHT
TZOFFSETFROM:+0100
TZOFFSETTO:+0200
TZNAME:CEST
DTSTART:20220327T010000
END:DAYLIGHT
BEGIN:STANDARD
TZOFFSETFROM:+0200
TZOFFSETTO:+0100
TZNAME:CET
DTSTART:20221030T010000
END:STANDARD
END:VTIMEZONE
BEGIN:VEVENT
DTSTART;TZID=Europe/Berlin:20210619T000000
DTEND;TZID=Europe/Berlin:20210621T233000
DTSTAMP:20260420T182642
CREATED:20210131T135632Z
LAST-MODIFIED:20210616T105320Z
UID:1458-1624060800-1624318200@sawatou.com
SUMMARY:Textile Art Berlin
DESCRIPTION:Meine Teilnahme an der Textile Art Berlin\, bereitet mir eine große Freude!Meine Einzelausstellung trägt den Titel: “Anthropos-Mensch Sein”. \nDie TAB wird von der Galerie in der Victoriastadt & Nathalie Wolters organisiert  und ist eine jährlich in Berlin stattfindende große internationale Kunstmesse. Ort des Geschehens ist dieses Mal aus bekannten Gründen das Internet. \nParallel zur TAB zeige ich meine Werke zusammen mit Susanne Weber in Wien\, in der Galerie Kabllo im ersten Bezirk. \nFür das Publikum der Textile Art Berlin wird die Ausstellung exklusiv ab Samstag den 19.06. online zu sehen sein. Die Gastgeberin Danica Beyll und wir Künstlerinnen nehmen Sie gerne mit auf eine Reise und zeigen Ihnen unsere inneren Welten und magische Orte. Der Link dazu folgt direkt nach der Aufzeichnung. \nZusätzlich wird es am 21.06.2021 um 15 h einen Art Talk (live) mit mir geben\, zur Ausstellung “Anthropos- Mensch Sein”. Der Kunsthistoriker Robert Seeger spricht mit mir über das “Mensch Sein” und das Zusammenleben in verschiedenen Kulturen. Gerne beantwortet ich auch  Ihre Fragen.\nHier der Link: https://us02web.zoom.us/j/82971990385?pwd=T0IxbXpqekM5cE5YMlRBVHdUSFZZQT09 \nFreue mich auf Euch!! \nFoto: Manfred Kerner
URL:https://sawatou.com/event/textile-art-berlin/
LOCATION:online
CATEGORIES:Ausstellungen
ATTACH;FMTTYPE=image/jpeg:https://sawatou.com/wp-content/uploads/2021/01/Sawatou-1a-5-von-9-scaled.jpg
ORGANIZER;CN="Galerie in der Victoriastadt":MAILTO:info@textile-art-berlin.de
END:VEVENT
BEGIN:VEVENT
DTSTART;TZID=Europe/Berlin:20210625T093000
DTEND;TZID=Europe/Berlin:20210627T170000
DTSTAMP:20260420T182642
CREATED:20210131T125814Z
LAST-MODIFIED:20210131T131412Z
UID:1439-1624613400-1624813200@sawatou.com
SUMMARY:eco print und filz
DESCRIPTION:Eco Print und Filz \nIn diesem Workshop können die Teilnehmer einige Facetten der Eco Print Technik kennenlernen.Wir bedrucken Seide\, Leinen\, Baumwolle und Filz.Es können Objekte mit weisser oder heller Wolle gefilzt werden um sie dann zu bedrucken.Den Schwerpunkt kann Jeder für sich selbst festlegen. \nAnmeldung und alle Info’s: \nhttps://www.kunstfabrik-wien.at/kursprogramm/juni/k21-077/
URL:https://sawatou.com/event/filzen-und-printen/
LOCATION:Kunstfabrik Wien\, Deinleingasse 3\, Wien Donaustadt\, Wien\, 1220\, Österreich
CATEGORIES:Workshops Sawatou
ATTACH;FMTTYPE=image/jpeg:https://sawatou.com/wp-content/uploads/2021/01/Sawatou-3-17-von-23-scaled.jpg
ORGANIZER;CN="Kunstfabrik Wien":MAILTO:office@kunstfabrik-wien.at
END:VEVENT
END:VCALENDAR